BEGIN:VCALENDAR
VERSION:2.0
PRODID:-//SunCoast Market Co-op - ECPv6.15.16//NONSGML v1.0//EN
CALSCALE:GREGORIAN
METHOD:PUBLISH
X-ORIGINAL-URL:https://suncoastmarket.coop
X-WR-CALDESC:Events for SunCoast Market Co-op
REFRESH-INTERVAL;VALUE=DURATION:PT1H
X-Robots-Tag:noindex
X-PUBLISHED-TTL:PT1H
BEGIN:VTIMEZONE
TZID:America/Los_Angeles
BEGIN:DAYLIGHT
TZOFFSETFROM:-0800
TZOFFSETTO:-0700
TZNAME:PDT
DTSTART:20220313T100000
END:DAYLIGHT
BEGIN:STANDARD
TZOFFSETFROM:-0700
TZOFFSETTO:-0800
TZNAME:PST
DTSTART:20221106T090000
END:STANDARD
BEGIN:DAYLIGHT
TZOFFSETFROM:-0800
TZOFFSETTO:-0700
TZNAME:PDT
DTSTART:20230312T100000
END:DAYLIGHT
BEGIN:STANDARD
TZOFFSETFROM:-0700
TZOFFSETTO:-0800
TZNAME:PST
DTSTART:20231105T090000
END:STANDARD
BEGIN:DAYLIGHT
TZOFFSETFROM:-0800
TZOFFSETTO:-0700
TZNAME:PDT
DTSTART:20240310T100000
END:DAYLIGHT
BEGIN:STANDARD
TZOFFSETFROM:-0700
TZOFFSETTO:-0800
TZNAME:PST
DTSTART:20241103T090000
END:STANDARD
END:VTIMEZONE
BEGIN:VEVENT
DTSTART;TZID=America/Los_Angeles:20231011T090000
DTEND;TZID=America/Los_Angeles:20231011T103000
DTSTAMP:20260422T141914
CREATED:20230921T000051Z
LAST-MODIFIED:20230921T000051Z
UID:11010-1697014800-1697020200@suncoastmarket.coop
SUMMARY:Talleres de Cocina Saludable!  EN ESPAÑOL (Cooking Demos in Spanish!)
DESCRIPTION:Para Registrarse
URL:https://suncoastmarket.coop/event/talleres-de-cocina-saludable-en-espanol-cooking-demos-in-spanish-2/
LOCATION:Boys and Girls Club IB\, 847 Encina Ave\, Imperial Beach\, CA\, 91932\, United States
END:VEVENT
BEGIN:VEVENT
DTSTART;TZID=America/Los_Angeles:20231012T173000
DTEND;TZID=America/Los_Angeles:20231012T183000
DTSTAMP:20260422T141914
CREATED:20230929T152613Z
LAST-MODIFIED:20230929T152613Z
UID:11025-1697131800-1697135400@suncoastmarket.coop
SUMMARY:Meet and Greet Information Session
DESCRIPTION:Join us to learn more about SunCoast Market and get your questions answered. Feel free to purchase drinks and eats and sit at the SunCoast table for a night of community building.
URL:https://suncoastmarket.coop/event/meet-and-greet-information-session-2/
LOCATION:Hamptom Inn IB\, 771 Palm Ave\, Imperial Back\, 91932\, United States
ATTACH;FMTTYPE=image/png:https://suncoastmarket.coop/wp-content/uploads/2023/09/Social-Media-Events-1.png
END:VEVENT
BEGIN:VEVENT
DTSTART;TZID=America/Los_Angeles:20231017T173000
DTEND;TZID=America/Los_Angeles:20231017T183000
DTSTAMP:20260422T141914
CREATED:20231003T173518Z
LAST-MODIFIED:20231003T173518Z
UID:11039-1697563800-1697567400@suncoastmarket.coop
SUMMARY:Meet and Greet Information Session - Wine a Bit
DESCRIPTION:Join us to learn more about SunCoast Market and get your questions answered. Feel free to purchase drinks and sit at the SunCoast table for a night of community building. Light snacks are provided.
URL:https://suncoastmarket.coop/event/meet-and-greet-information-session-wine-a-bit/
LOCATION:Wine A Bit Coronado\, 928 Orange Ave\, Coronado\, 92118\, United States
ATTACH;FMTTYPE=image/png:https://suncoastmarket.coop/wp-content/uploads/2023/10/Social-Media-Events-5.png
END:VEVENT
BEGIN:VEVENT
DTSTART;TZID=America/Los_Angeles:20231021T080000
DTEND;TZID=America/Los_Angeles:20231021T140000
DTSTAMP:20260422T141914
CREATED:20230629T143230Z
LAST-MODIFIED:20230629T143230Z
UID:10240-1697875200-1697896800@suncoastmarket.coop
SUMMARY:October Farmers Market
DESCRIPTION:Visit www.suncoastmarket.coop/farmersmarket for details! \n*Vendors can vary month to month \nFARMS\nRanchito Milkyway\nGolden Heart Family Farm (Produce/ Fruits)\nGreen Adaptogenics (Microgreens)\nMountain Meadow Mushroom Farm\n\nPLANTS\nGonzoz Family Greenery and Flowers\nMine Mire Flowers (*NEW*)\n\nFOOD/ FOOD TRUCKS\nKrishnas Kitchen\nRise & Grind\nGabina’s Cuisine\nBrazuca Bro Eats\nIsland Mike Poke\nKapu Coffee\nMX PR Juice Bar (*NEW*)\nNono Jose Empanadas\nTurkish Grill\nHello Koishii SD\nToro Churros and Doughnuts (*NEW*)\nEZ Kettle Corn\nAeva’s Superfood Juices and Soups *NEW*\n\nGROCERIES\nUncle Keith’s\nMamacita Salsa\nPretty Provision\nScratch House Cheese\nVibrant Goods (*NEW*)\nJJ BORG (HONEY)\nGreen Madame’s Shop\nPositivitea *NEW*\n\nBAKED FOODS\nBig Al Baking Co\nTita Ann’s (Filipino Desserts)\nKris Dry Goods\nBella Brand Bake Provision\nSandra’s Sweet Rolls\nMi Pan Bakery\nLanis Homemade Cookies\nSky’s Delights\nIts in the Filling (*NEW*)\n\nPET\nSunny’s Design\nHappy Pets\nReal Dog Box\n\nHOME GOODS\nSally’s Seasonals\nBe 100% Natural *NEW*\nThe Knotterry\nFarm Girl Cloth Co.\nOuchi Mama\n619Woodcrafts\nWood and Wonders by Chas\nOcean View Design\nIris Nicole Candle\nLaser Designs 4 U\nScotlin Scents\nAnNik Leather Jewelry\nTara Willis Photography\nStudio Nichoel\nLelu Soap Lab\nSuds & Bath Buds\nMacetas iLE\nLiz Adriana Creations (*NEW*)\nIB Printing (*NEW*)\nBlooming Kids Creation (*NEW*)\nTiny Sponge (*NEW*)\nAngie Design Shop (*NEW*)\nOjos Verde\n\nTRAVEL\nHarry & Debbie Cruise\nMannah Travel\n\nINFO/EDUCATION\nSUNCOAST Market Co-op\nI Love To Glean\nIB Arts Bureau\nHHSA\, San Diego County\nECS Head Start\nSan Diego PACE\nKiwanis Imperial Beach and South Bay\nImperial Beach Neighborhood\n\nACTIVITIES\nOM State Yoga Breath Work with Albert 10-10:30 a.m.\nOM State Yoga by Kaylee Vaughn Class 10:30-11:00 a.m.\nMacrame Key Chain Workshop 10 – 2 p.m. (30 minutes to complete)\nCornhole! (All day)\n\n\nKIDS ACTIVITY (All Day)\nScavenger Hunt\nMary Corklin Craft (St. James)\nFace Painting (Ana Sanchez) 9:30 a.m.
URL:https://suncoastmarket.coop/event/october-farmers-market/
LOCATION:Veteran’s Park Imperial Beach
ATTACH;FMTTYPE=image/png:https://suncoastmarket.coop/wp-content/uploads/2022/09/Healty-Food-Fresh-Vegetable-Modern-Instagram-Post-Square-4.png
END:VEVENT
BEGIN:VEVENT
DTSTART;TZID=America/Los_Angeles:20231023T180000
DTEND;TZID=America/Los_Angeles:20231023T190000
DTSTAMP:20260422T141914
CREATED:20231001T171402Z
LAST-MODIFIED:20231001T171402Z
UID:11033-1698084000-1698087600@suncoastmarket.coop
SUMMARY:Monthly Meeting
DESCRIPTION:
URL:https://suncoastmarket.coop/event/monthly-meeting-4/
LOCATION:Imperial Beach Public Library\, 810 Imperial Beach Blvd\, Imperial Beach\, 91932\, United States
ATTACH;FMTTYPE=image/png:https://suncoastmarket.coop/wp-content/uploads/2023/05/Updated-social-media-1.png
END:VEVENT
BEGIN:VEVENT
DTSTART;TZID=America/Los_Angeles:20231025T090000
DTEND;TZID=America/Los_Angeles:20231025T103000
DTSTAMP:20260422T141914
CREATED:20230921T000141Z
LAST-MODIFIED:20230921T000141Z
UID:11012-1698224400-1698229800@suncoastmarket.coop
SUMMARY:Talleres de Cocina Saludable!  EN ESPAÑOL (Cooking Demos in Spanish!)
DESCRIPTION:Para Registrarse
URL:https://suncoastmarket.coop/event/talleres-de-cocina-saludable-en-espanol-cooking-demos-in-spanish-3/
LOCATION:Boys and Girls Club IB\, 847 Encina Ave\, Imperial Beach\, CA\, 91932\, United States
END:VEVENT
END:VCALENDAR