BEGIN:VCALENDAR
VERSION:2.0
PRODID:-//SunCoast Market Co-op - ECPv6.15.16//NONSGML v1.0//EN
CALSCALE:GREGORIAN
METHOD:PUBLISH
X-WR-CALNAME:SunCoast Market Co-op
X-ORIGINAL-URL:https://suncoastmarket.coop
X-WR-CALDESC:Events for SunCoast Market Co-op
REFRESH-INTERVAL;VALUE=DURATION:PT1H
X-Robots-Tag:noindex
X-PUBLISHED-TTL:PT1H
BEGIN:VTIMEZONE
TZID:America/Los_Angeles
BEGIN:DAYLIGHT
TZOFFSETFROM:-0800
TZOFFSETTO:-0700
TZNAME:PDT
DTSTART:20220313T100000
END:DAYLIGHT
BEGIN:STANDARD
TZOFFSETFROM:-0700
TZOFFSETTO:-0800
TZNAME:PST
DTSTART:20221106T090000
END:STANDARD
BEGIN:DAYLIGHT
TZOFFSETFROM:-0800
TZOFFSETTO:-0700
TZNAME:PDT
DTSTART:20230312T100000
END:DAYLIGHT
BEGIN:STANDARD
TZOFFSETFROM:-0700
TZOFFSETTO:-0800
TZNAME:PST
DTSTART:20231105T090000
END:STANDARD
BEGIN:DAYLIGHT
TZOFFSETFROM:-0800
TZOFFSETTO:-0700
TZNAME:PDT
DTSTART:20240310T100000
END:DAYLIGHT
BEGIN:STANDARD
TZOFFSETFROM:-0700
TZOFFSETTO:-0800
TZNAME:PST
DTSTART:20241103T090000
END:STANDARD
END:VTIMEZONE
BEGIN:VEVENT
DTSTART;TZID=America/Los_Angeles:20231105T113000
DTEND;TZID=America/Los_Angeles:20231105T143000
DTSTAMP:20260422T123829
CREATED:20230929T152325Z
LAST-MODIFIED:20230929T152325Z
UID:11022-1699183800-1699194600@suncoastmarket.coop
SUMMARY:Succulent Pumpkin Making Activity
DESCRIPTION:Just us for our annual event in making unique and beautiful centerpieces for your holiday table! Free for all\, while supplies last.
URL:https://suncoastmarket.coop/event/succulent-pumpkin-making-activity/
LOCATION:vitamin sea welless\, 863 Seacoast Dr\, Imperial Beach\, CA\, 91932\, United States
ATTACH;FMTTYPE=image/png:https://suncoastmarket.coop/wp-content/uploads/2023/09/Social-Media-Events-3.png
END:VEVENT
BEGIN:VEVENT
DTSTART;TZID=America/Los_Angeles:20231108T090000
DTEND;TZID=America/Los_Angeles:20231108T103000
DTSTAMP:20260422T123829
CREATED:20230921T000229Z
LAST-MODIFIED:20230921T000229Z
UID:11014-1699434000-1699439400@suncoastmarket.coop
SUMMARY:Talleres de Cocina Saludable!  EN ESPAÑOL (Cooking Demos in Spanish!)
DESCRIPTION:Para Registrarse
URL:https://suncoastmarket.coop/event/talleres-de-cocina-saludable-en-espanol-cooking-demos-in-spanish-4/
LOCATION:Boys and Girls Club IB\, 847 Encina Ave\, Imperial Beach\, CA\, 91932\, United States
END:VEVENT
BEGIN:VEVENT
DTSTART;TZID=America/Los_Angeles:20231118T080000
DTEND;TZID=America/Los_Angeles:20231118T140000
DTSTAMP:20260422T123829
CREATED:20230629T143421Z
LAST-MODIFIED:20230629T143421Z
UID:10242-1700294400-1700316000@suncoastmarket.coop
SUMMARY:November Farmers Market
DESCRIPTION:Visit www.suncoastmarket.coop/farmersmarket for details! \n*Vendors can vary month to month \nFARMS\nRanchito Milkyway\nGolden Heart Family Farm (Produce/ Fruits)\nGreen Adaptogenics (Microgreens)\nMountain Meadow Mushroom Farm\n\nPLANTS\nGonzoz Family Greenery and Flowers\nMine Mire Flowers (*NEW*)\n\nFOOD/ FOOD TRUCKS\nKrishnas Kitchen\nRise & Grind\nGabina’s Cuisine\nBrazuca Bro Eats\nIsland Mike Poke\nKapu Coffee\nMX PR Juice Bar (*NEW*)\nNono Jose Empanadas\nTurkish Grill\nHello Koishii SD\nToro Churros and Doughnuts (*NEW*)\nEZ Kettle Corn\nAeva’s Superfood Juices and Soups *NEW*\n\nGROCERIES\nUncle Keith’s\nMamacita Salsa\nPretty Provision\nScratch House Cheese\nVibrant Goods (*NEW*)\nJJ BORG (HONEY)\nGreen Madame’s Shop\nPositivitea *NEW*\n\nBAKED FOODS\nBig Al Baking Co\nTita Ann’s (Filipino Desserts)\nKris Dry Goods\nBella Brand Bake Provision\nSandra’s Sweet Rolls\nMi Pan Bakery\nLanis Homemade Cookies\nSky’s Delights\nIts in the Filling (*NEW*)\n\nPET\nSunny’s Design\nHappy Pets\nReal Dog Box\n\nHOME GOODS\nSally’s Seasonals\nBe 100% Natural *NEW*\nThe Knotterry\nFarm Girl Cloth Co.\nOuchi Mama\n619Woodcrafts\nWood and Wonders by Chas\nOcean View Design\nIris Nicole Candle\nLaser Designs 4 U\nScotlin Scents\nAnNik Leather Jewelry\nTara Willis Photography\nStudio Nichoel\nLelu Soap Lab\nSuds & Bath Buds\nMacetas iLE\nLiz Adriana Creations (*NEW*)\nIB Printing (*NEW*)\nBlooming Kids Creation (*NEW*)\nTiny Sponge (*NEW*)\nAngie Design Shop (*NEW*)\nOjos Verde\n\nTRAVEL\nHarry & Debbie Cruise\nMannah Travel\n\nINFO/EDUCATION\nSUNCOAST Market Co-op\nI Love To Glean\nIB Arts Bureau\nHHSA\, San Diego County\nECS Head Start\nSan Diego PACE\nKiwanis Imperial Beach and South Bay\nImperial Beach Neighborhood\n\nACTIVITIES\nCornhole! (All day)\n\n\nKIDS ACTIVITY (All Day)\nScavenger Hunt\nMary Corklin Craft (St. James)\nFace Painting (Ana Sanchez) 9:30 a.m.
URL:https://suncoastmarket.coop/event/november-farmers-market/
LOCATION:Veteran’s Park Imperial Beach
ATTACH;FMTTYPE=image/png:https://suncoastmarket.coop/wp-content/uploads/2022/09/Healty-Food-Fresh-Vegetable-Modern-Instagram-Post-Square-4.png
END:VEVENT
BEGIN:VEVENT
DTSTART;TZID=America/Los_Angeles:20231127T180000
DTEND;TZID=America/Los_Angeles:20231127T190000
DTSTAMP:20260422T123829
CREATED:20230723T192602Z
LAST-MODIFIED:20230723T192602Z
UID:10525-1701108000-1701111600@suncoastmarket.coop
SUMMARY:Monthly Board Meeting November
DESCRIPTION:For those who would like to attend by Zoom (we cannot guarantee audio or video quality): https://us02web.zoom.us/j/81527493647?pwd=SEx4Yk03bGFIa2hCNnlEQ29rRlpGZz09
URL:https://suncoastmarket.coop/event/monthly-board-meeting-november/
LOCATION:Imperial Beach Public Library\, 810 Imperial Beach Blvd\, Imperial Beach\, 91932\, United States
END:VEVENT
END:VCALENDAR