BEGIN:VCALENDAR
VERSION:2.0
PRODID:-//SunCoast Market Co-op - ECPv6.15.16//NONSGML v1.0//EN
CALSCALE:GREGORIAN
METHOD:PUBLISH
X-WR-CALNAME:SunCoast Market Co-op
X-ORIGINAL-URL:https://suncoastmarket.coop
X-WR-CALDESC:Events for SunCoast Market Co-op
REFRESH-INTERVAL;VALUE=DURATION:PT1H
X-Robots-Tag:noindex
X-PUBLISHED-TTL:PT1H
BEGIN:VTIMEZONE
TZID:America/Los_Angeles
BEGIN:DAYLIGHT
TZOFFSETFROM:-0800
TZOFFSETTO:-0700
TZNAME:PDT
DTSTART:20220313T100000
END:DAYLIGHT
BEGIN:STANDARD
TZOFFSETFROM:-0700
TZOFFSETTO:-0800
TZNAME:PST
DTSTART:20221106T090000
END:STANDARD
BEGIN:DAYLIGHT
TZOFFSETFROM:-0800
TZOFFSETTO:-0700
TZNAME:PDT
DTSTART:20230312T100000
END:DAYLIGHT
BEGIN:STANDARD
TZOFFSETFROM:-0700
TZOFFSETTO:-0800
TZNAME:PST
DTSTART:20231105T090000
END:STANDARD
BEGIN:DAYLIGHT
TZOFFSETFROM:-0800
TZOFFSETTO:-0700
TZNAME:PDT
DTSTART:20240310T100000
END:DAYLIGHT
BEGIN:STANDARD
TZOFFSETFROM:-0700
TZOFFSETTO:-0800
TZNAME:PST
DTSTART:20241103T090000
END:STANDARD
END:VTIMEZONE
BEGIN:VEVENT
DTSTART;TZID=America/Los_Angeles:20231212T180000
DTEND;TZID=America/Los_Angeles:20231212T200000
DTSTAMP:20260422T110359
CREATED:20231127T142123Z
LAST-MODIFIED:20231127T142123Z
UID:17043-1702404000-1702411200@suncoastmarket.coop
SUMMARY:Hawaiian Holiday Party
DESCRIPTION:Save the date! This year we will gather at our soon-to-be neighbors\, Big Kahuna’s (600 Palm Ave) to celebrate the end of another great year. Tickets are $25 and includes your choice of menu item\, non-alcoholic beverage\, and dessert (vegetarian and non-vegetarian option). \nPurchase an adult ticket by clicking here \nPurchase kids tickets by clicking here
URL:https://suncoastmarket.coop/event/hawaiian-holiday-party/
LOCATION:Big Kahuna IB\, 600 Palm Ave\, Imperial Beach\, CA\, 91932
ATTACH;FMTTYPE=image/png:https://suncoastmarket.coop/wp-content/uploads/2023/11/Hawaiian-3.png
END:VEVENT
BEGIN:VEVENT
DTSTART;TZID=America/Los_Angeles:20231216T080000
DTEND;TZID=America/Los_Angeles:20231216T140000
DTSTAMP:20260422T110359
CREATED:20230629T143602Z
LAST-MODIFIED:20230629T143602Z
UID:10245-1702713600-1702735200@suncoastmarket.coop
SUMMARY:December Farmers Market
DESCRIPTION:Visit www.suncoastmarket.coop/farmersmarket for details! \n*Vendors can vary month to month \nFARMS\nRanchito Milkyway\nGolden Heart Family Farm (Produce/ Fruits)\nGreen Adaptogenics (Microgreens)\nMountain Meadow Mushroom Farm\n\nPLANTS\nGonzoz Family Greenery and Flowers\nMine Mire Flowers (*NEW*)\n\nFOOD/ FOOD TRUCKS\nKrishnas Kitchen\nRise & Grind\nGabina’s Cuisine\nBrazuca Bro Eats\nIsland Mike Poke\nKapu Coffee\nMX PR Juice Bar (*NEW*)\nNono Jose Empanadas\nTurkish Grill\nHello Koishii SD\nToro Churros and Doughnuts (*NEW*)\nEZ Kettle Corn\nAeva’s Superfood Juices and Soups *NEW*\n\nGROCERIES\nUncle Keith’s\nMamacita Salsa\nPretty Provision\nScratch House Cheese\nVibrant Goods (*NEW*)\nJJ BORG (HONEY)\nGreen Madame’s Shop\nPositivitea *NEW*\n\nBAKED FOODS\nBig Al Baking Co\nTita Ann’s (Filipino Desserts)\nKris Dry Goods\nBella Brand Bake Provision\nSandra’s Sweet Rolls\nMi Pan Bakery\nLanis Homemade Cookies\nSky’s Delights\nIts in the Filling (*NEW*)\n\nPET\nSunny’s Design\nHappy Pets\nReal Dog Box\n\nHOME GOODS\nSally’s Seasonals\nBe 100% Natural *NEW*\nThe Knotterry\nFarm Girl Cloth Co.\nOuchi Mama\n619Woodcrafts\nWood and Wonders by Chas\nOcean View Design\nIris Nicole Candle\nLaser Designs 4 U\nScotlin Scents\nAnNik Leather Jewelry\nTara Willis Photography\nStudio Nichoel\nLelu Soap Lab\nSuds & Bath Buds\nMacetas iLE\nLiz Adriana Creations (*NEW*)\nIB Printing (*NEW*)\nBlooming Kids Creation (*NEW*)\nTiny Sponge (*NEW*)\nAngie Design Shop (*NEW*)\nOjos Verde\n\nTRAVEL\nHarry & Debbie Cruise\nMannah Travel\n\nINFO/EDUCATION\nSUNCOAST Market Co-op\nI Love To Glean\nIB Arts Bureau\nHHSA\, San Diego County\nECS Head Start\nSan Diego PACE\nKiwanis Imperial Beach and South Bay\nImperial Beach Neighborhood\n\nACTIVITIES\nCornhole! (All day)\n\n\nKIDS ACTIVITY (All Day)\nScavenger Hunt\nMary Corklin Craft (St. James)\nFace Painting (Ana Sanchez) 9:30 a.m.
URL:https://suncoastmarket.coop/event/december-farmers-market/
LOCATION:Veteran’s Park Imperial Beach
ATTACH;FMTTYPE=image/png:https://suncoastmarket.coop/wp-content/uploads/2022/09/Healty-Food-Fresh-Vegetable-Modern-Instagram-Post-Square-4.png
END:VEVENT
END:VCALENDAR