BEGIN:VCALENDAR
VERSION:2.0
PRODID:-//SunCoast Market Co-op - ECPv6.15.16//NONSGML v1.0//EN
CALSCALE:GREGORIAN
METHOD:PUBLISH
X-WR-CALNAME:SunCoast Market Co-op
X-ORIGINAL-URL:https://suncoastmarket.coop
X-WR-CALDESC:Events for SunCoast Market Co-op
REFRESH-INTERVAL;VALUE=DURATION:PT1H
X-Robots-Tag:noindex
X-PUBLISHED-TTL:PT1H
BEGIN:VTIMEZONE
TZID:America/Los_Angeles
BEGIN:DAYLIGHT
TZOFFSETFROM:-0800
TZOFFSETTO:-0700
TZNAME:PDT
DTSTART:20230312T100000
END:DAYLIGHT
BEGIN:STANDARD
TZOFFSETFROM:-0700
TZOFFSETTO:-0800
TZNAME:PST
DTSTART:20231105T090000
END:STANDARD
BEGIN:DAYLIGHT
TZOFFSETFROM:-0800
TZOFFSETTO:-0700
TZNAME:PDT
DTSTART:20240310T100000
END:DAYLIGHT
BEGIN:STANDARD
TZOFFSETFROM:-0700
TZOFFSETTO:-0800
TZNAME:PST
DTSTART:20241103T090000
END:STANDARD
BEGIN:DAYLIGHT
TZOFFSETFROM:-0800
TZOFFSETTO:-0700
TZNAME:PDT
DTSTART:20250309T100000
END:DAYLIGHT
BEGIN:STANDARD
TZOFFSETFROM:-0700
TZOFFSETTO:-0800
TZNAME:PST
DTSTART:20251102T090000
END:STANDARD
END:VTIMEZONE
BEGIN:VEVENT
DTSTART;TZID=America/Los_Angeles:20240201T093000
DTEND;TZID=America/Los_Angeles:20240201T103000
DTSTAMP:20260422T074902
CREATED:20240118T180631Z
LAST-MODIFIED:20240118T180631Z
UID:17090-1706779800-1706783400@suncoastmarket.coop
SUMMARY:News & Brews @ Cafecito on Palm
DESCRIPTION:
URL:https://suncoastmarket.coop/event/news-brews-cafecito-on-palm/
LOCATION:Cafecito on Palm\, 1550 Palm Ave\, San Diego\, 92154\, United States
ATTACH;FMTTYPE=image/png:https://suncoastmarket.coop/wp-content/uploads/2024/01/Updated-social-media-5.png
END:VEVENT
END:VCALENDAR